BEGIN:VCALENDAR
VERSION:2.0
PRODID:-//Governance &amp; Integrity Anti-Corruption Evidence - ECPv6.15.14//NONSGML v1.0//EN
CALSCALE:GREGORIAN
METHOD:PUBLISH
X-WR-CALNAME:Governance &amp; Integrity Anti-Corruption Evidence
X-ORIGINAL-URL:https://giace.org
X-WR-CALDESC:Events for Governance &amp; Integrity Anti-Corruption Evidence
REFRESH-INTERVAL;VALUE=DURATION:PT1H
X-Robots-Tag:noindex
X-PUBLISHED-TTL:PT1H
BEGIN:VTIMEZONE
TZID:UTC
BEGIN:STANDARD
TZOFFSETFROM:+0000
TZOFFSETTO:+0000
TZNAME:UTC
DTSTART:20200101T000000
END:STANDARD
END:VTIMEZONE
BEGIN:VEVENT
DTSTART;TZID=UTC:20210603T090000
DTEND;TZID=UTC:20210603T100000
DTSTAMP:20260422T131339
CREATED:20210526T133501Z
LAST-MODIFIED:20210526T133833Z
UID:2838-1622710800-1622714400@giace.org
SUMMARY:A Story of a Zambian Planner: Animating Integrity in Urban Planning
DESCRIPTION:
URL:https://giace.org/event/a-story-of-a-zambian-planner-animating-integrity-in-urban-planning/
LOCATION:Zoom Event
ATTACH;FMTTYPE=image/jpeg:https://giace.org/wp-content/uploads/2021/05/https___cdn.evbuc_.com_images_136388587_495902153783_1_original.jpeg
END:VEVENT
BEGIN:VEVENT
DTSTART;TZID=UTC:20210609T090000
DTEND;TZID=UTC:20210609T103000
DTSTAMP:20260422T131339
CREATED:20210526T135304Z
LAST-MODIFIED:20210526T135304Z
UID:2843-1623229200-1623234600@giace.org
SUMMARY:From Research to Policy: the ACE Journey of Impact
DESCRIPTION:
URL:https://giace.org/event/from-research-to-policy-the-ace-journey-of-impact/
LOCATION:Zoom Event
ATTACH;FMTTYPE=image/jpeg:https://giace.org/wp-content/uploads/2021/05/https___cdn.evbuc_.com_images_136384751_495902153783_1_original.jpg
END:VEVENT
BEGIN:VEVENT
DTSTART;TZID=UTC:20210618T080000
DTEND;TZID=UTC:20210618T093000
DTSTAMP:20260422T131339
CREATED:20210526T155516Z
LAST-MODIFIED:20210526T155516Z
UID:2846-1624003200-1624008600@giace.org
SUMMARY:ICRN Roundtable: How can academia & policy communicate in anti-corruption?
DESCRIPTION:
URL:https://giace.org/event/icrn-roundtable-how-can-academia-policy-communicate-in-anti-corruption/
LOCATION:Zoom Event
ATTACH;FMTTYPE=image/jpeg:https://giace.org/wp-content/uploads/2021/05/https___cdn.evbuc_.com_images_136654105_462851242642_1_original.jpeg
END:VEVENT
END:VCALENDAR