BEGIN:VCALENDAR
VERSION:2.0
PRODID:-//Governance &amp; Integrity Anti-Corruption Evidence - ECPv6.15.14//NONSGML v1.0//EN
CALSCALE:GREGORIAN
METHOD:PUBLISH
X-WR-CALNAME:Governance &amp; Integrity Anti-Corruption Evidence
X-ORIGINAL-URL:https://giace.org
X-WR-CALDESC:Events for Governance &amp; Integrity Anti-Corruption Evidence
REFRESH-INTERVAL;VALUE=DURATION:PT1H
X-Robots-Tag:noindex
X-PUBLISHED-TTL:PT1H
BEGIN:VTIMEZONE
TZID:America/New_York
BEGIN:DAYLIGHT
TZOFFSETFROM:-0500
TZOFFSETTO:-0400
TZNAME:EDT
DTSTART:20210314T070000
END:DAYLIGHT
BEGIN:STANDARD
TZOFFSETFROM:-0400
TZOFFSETTO:-0500
TZNAME:EST
DTSTART:20211107T060000
END:STANDARD
BEGIN:DAYLIGHT
TZOFFSETFROM:-0500
TZOFFSETTO:-0400
TZNAME:EDT
DTSTART:20220313T070000
END:DAYLIGHT
BEGIN:STANDARD
TZOFFSETFROM:-0400
TZOFFSETTO:-0500
TZNAME:EST
DTSTART:20221106T060000
END:STANDARD
BEGIN:DAYLIGHT
TZOFFSETFROM:-0500
TZOFFSETTO:-0400
TZNAME:EDT
DTSTART:20230312T070000
END:DAYLIGHT
BEGIN:STANDARD
TZOFFSETFROM:-0400
TZOFFSETTO:-0500
TZNAME:EST
DTSTART:20231105T060000
END:STANDARD
END:VTIMEZONE
BEGIN:VEVENT
DTSTART;TZID=America/New_York:20221013T163000
DTEND;TZID=America/New_York:20221013T170000
DTSTAMP:20260420T044221
CREATED:20221110T130256Z
LAST-MODIFIED:20221110T131704Z
UID:3796-1665678600-1665680400@giace.org
SUMMARY:GI-ACE Report Launch: Curbing IFFs and the Enablers of Corruption
DESCRIPTION:Video recording here \n  \nIn a 2020 report by the United Nations Conference on Trade and Development (UNCTAD)\, it was estimated that annual outflows of illicit finance from sub-Saharan Africa were around USD $88.6 billion – almost double of total foreign aid flowing into Africa. Most of that ends up in countries in the global north facilitated by a group of professionals collectively known as “the enablers”. \nWho is behind it and how can this be mitigated? Join this event for an insightful discussion presenting the latest research on this topic\, commissioned by GI-ACE and funded by FCDO.\nThis event will launch a new GI-ACE research report on global finance and the enablers of corruption. Noah Arshinoff will be joined by Jane Humphreys\, one of two co-authors for a conversation moderated by Lakshmi Kumar (Policy Director\, Global Financial Integrity). The discussion will be held live at the Open Gov Hub in Washington\, D.C. on October 13th at 4pm\, with an online option to join and a happy hour to follow. \nThe report examines the evidence of the involvement of various enabler sectors in IFFs and the tools that have been used to thwart them. It also examines whether these tools have been effective and where gaps in research remain that need to be addressed in order to drive actionable policy responses. \nThe authors draw on existing evidence of regulatory frameworks\, tools\, and novel instruments used to deter various enablers (e.g. lawyers\, bankers\, accountants\, educational institutions – among others) from contributing to illicit financial flows around the world. \nLearn more about this short-term research project here.
URL:https://giace.org/event/gi-ace-report-launch-curbing-iffs-and-the-enablers-of-corruption/
LOCATION:Open Gov Hub\, 1100 13th Street NW\, Suite 800\, Washington\, DC\, 20005\, United States
ATTACH;FMTTYPE=image/png:https://giace.org/wp-content/uploads/2022/11/Screen-Shot-2022-11-10-at-12.59.13-PM.png
END:VEVENT
END:VCALENDAR