BEGIN:VCALENDAR
VERSION:2.0
PRODID:-//Governance &amp; Integrity Anti-Corruption Evidence - ECPv6.15.14//NONSGML v1.0//EN
CALSCALE:GREGORIAN
METHOD:PUBLISH
X-WR-CALNAME:Governance &amp; Integrity Anti-Corruption Evidence
X-ORIGINAL-URL:https://giace.org
X-WR-CALDESC:Events for Governance &amp; Integrity Anti-Corruption Evidence
REFRESH-INTERVAL;VALUE=DURATION:PT1H
X-Robots-Tag:noindex
X-PUBLISHED-TTL:PT1H
BEGIN:VTIMEZONE
TZID:America/New_York
BEGIN:DAYLIGHT
TZOFFSETFROM:-0500
TZOFFSETTO:-0400
TZNAME:EDT
DTSTART:20210314T070000
END:DAYLIGHT
BEGIN:STANDARD
TZOFFSETFROM:-0400
TZOFFSETTO:-0500
TZNAME:EST
DTSTART:20211107T060000
END:STANDARD
BEGIN:DAYLIGHT
TZOFFSETFROM:-0500
TZOFFSETTO:-0400
TZNAME:EDT
DTSTART:20220313T070000
END:DAYLIGHT
BEGIN:STANDARD
TZOFFSETFROM:-0400
TZOFFSETTO:-0500
TZNAME:EST
DTSTART:20221106T060000
END:STANDARD
BEGIN:DAYLIGHT
TZOFFSETFROM:-0500
TZOFFSETTO:-0400
TZNAME:EDT
DTSTART:20230312T070000
END:DAYLIGHT
BEGIN:STANDARD
TZOFFSETFROM:-0400
TZOFFSETTO:-0500
TZNAME:EST
DTSTART:20231105T060000
END:STANDARD
END:VTIMEZONE
BEGIN:VEVENT
DTSTART;TZID=America/New_York:20220916T100000
DTEND;TZID=America/New_York:20220916T110000
DTSTAMP:20260420T014039
CREATED:20221110T131739Z
LAST-MODIFIED:20221110T131739Z
UID:3805-1663322400-1663326000@giace.org
SUMMARY:Do All Drug Routes Lead to Violence?: Trafficking in Central Asia
DESCRIPTION:Video recording here \n  \nJoin us for a conversation on the relationship between state structures and organised crime in developing states on 16 September at 10:00 EDT\, co-hosted by SOC-ACE\, a research programme funded by UK AID. \nIn this event\, researchers Dr. Erica Marat and Dr. Gulzat Botoeva will be joined by Alexei Trochev and Gavin Slade to examine the links between illegal drug trafficking\, violence\, and corruption in Central Asia. \nThe Central Asian region is a major route for the trafficking of drugs from Afghanistan to Russia and Europe. Of the nearly 300 tonnes of heroin produced in Afghanistan (UNODC\, 2021)\, up to 90 tonnes of heroin pass through the countries of Central Asia annually. The region is also increasingly becoming both a transit zone and producer of synthetic drugs. \nThe researchers argue that drug trafficking is highly organised with major criminal and state actors participating\, and with rarely visible but periodic changes occurring among the involved parties. Their analysis of violence and policing dynamics in the region shows how patterns of organised crime depend on state effectiveness\, the state protection of trafficking\, and the presence of competition between traffickers. Illicit drugs flow through the region with the help of the security sectors and political elites\, who share a long history of protecting and participating in drug trafficking. Criminal violence is spread across the region\, especially in urban areas\, but the Central Asian states are capable of intercepting and preventing illicit activities. \nThis research comes at a time of an anticipated increase in drug trafficking from Taliban-controlled Afghanistan\, and of growing economic uncertainty in the wider region due to the implications of the war in Ukraine. In the policy realm\, their research findings can help develop the anti-trafficking strategy in the Central Asian region\, including through better understanding of how drug trafficking can be curbed more effectively by identifying the main actors involved in this highly organised criminal process. In the academic realm\, other scholars will be able to use these findings to explain state decline\, corruption patterns\, and the rise of intrastate violence in the region. \nThe talk will be followed by a Q&A .
URL:https://giace.org/event/do-all-drug-routes-lead-to-violence-trafficking-in-central-asia/
LOCATION:Open Gov Hub\, 1100 13th Street NW\, Suite 800\, Washington\, DC\, 20005\, United States
ATTACH;FMTTYPE=image/png:https://giace.org/wp-content/uploads/2022/11/Screen-Shot-2022-11-10-at-1.14.32-PM.png
END:VEVENT
END:VCALENDAR