BEGIN:VCALENDAR
VERSION:2.0
PRODID:-//Governance &amp; Integrity Anti-Corruption Evidence - ECPv6.15.14//NONSGML v1.0//EN
CALSCALE:GREGORIAN
METHOD:PUBLISH
X-ORIGINAL-URL:https://giace.org
X-WR-CALDESC:Events for Governance &amp; Integrity Anti-Corruption Evidence
REFRESH-INTERVAL;VALUE=DURATION:PT1H
X-Robots-Tag:noindex
X-PUBLISHED-TTL:PT1H
BEGIN:VTIMEZONE
TZID:UTC
BEGIN:STANDARD
TZOFFSETFROM:+0000
TZOFFSETTO:+0000
TZNAME:UTC
DTSTART:20210101T000000
END:STANDARD
END:VTIMEZONE
BEGIN:VEVENT
DTSTART;TZID=UTC:20220224T090000
DTEND;TZID=UTC:20220224T100000
DTSTAMP:20260419T060337
CREATED:20211103T142254Z
LAST-MODIFIED:20220217T091921Z
UID:3132-1645693200-1645696800@giace.org
SUMMARY:GI-ACE Weekly Series: Ryan Jablonski
DESCRIPTION:Register for this event now! \nStarting in November\, each ACE research team will share how their research projects have aligned with the founding principles of the GI-ACE programme: developing anti-corruption interventions that are problem-focused\, politically viable\, have engaged practitioners throughout the research process\, and provided avenues through which to measure the effects of the reforms. \nOn February 24\, Ryan Jablonski will present on his project: how can we deter and detect medication theft? \n 
URL:https://giace.org/event/gi-ace-weekly-series-ryan-jablonski/
LOCATION:Zoom Event
ATTACH;FMTTYPE=image/png:https://giace.org/wp-content/uploads/2021/11/EB-Resized-Event-banners-running-template-38.png
END:VEVENT
END:VCALENDAR