BEGIN:VCALENDAR
VERSION:2.0
PRODID:-//Governance &amp; Integrity Anti-Corruption Evidence - ECPv6.15.14//NONSGML v1.0//EN
CALSCALE:GREGORIAN
METHOD:PUBLISH
X-ORIGINAL-URL:https://giace.org
X-WR-CALDESC:Events for Governance &amp; Integrity Anti-Corruption Evidence
REFRESH-INTERVAL;VALUE=DURATION:PT1H
X-Robots-Tag:noindex
X-PUBLISHED-TTL:PT1H
BEGIN:VTIMEZONE
TZID:UTC
BEGIN:STANDARD
TZOFFSETFROM:+0000
TZOFFSETTO:+0000
TZNAME:UTC
DTSTART:20210101T000000
END:STANDARD
END:VTIMEZONE
BEGIN:VEVENT
DTSTART;TZID=UTC:20220208T100000
DTEND;TZID=UTC:20220208T110000
DTSTAMP:20260419T102903
CREATED:20211103T141848Z
LAST-MODIFIED:20220204T111011Z
UID:3128-1644314400-1644318000@giace.org
SUMMARY:GI-ACE Weekly Series: Mark Buntaine
DESCRIPTION:Register for this event now! \nStarting in November\, each ACE research team will share how their research projects have aligned with the founding principles of the GI-ACE programme: developing anti-corruption interventions that are problem-focused\, politically viable\, have engaged practitioners throughout the research process\, and provided avenues through which to measure the effects of the reforms. \nOn February 10\, Mark Buntaine will present on their project: can positive public recognition lead to good governance? \n 
URL:https://giace.org/event/gi-ace-weekly-series-mark-buntaine/
LOCATION:Zoom Event
ATTACH;FMTTYPE=image/png:https://giace.org/wp-content/uploads/2021/11/EB-Resized-Event-banners-running-template-33.png
END:VEVENT
END:VCALENDAR