BEGIN:VCALENDAR
VERSION:2.0
PRODID:-//Governance &amp; Integrity Anti-Corruption Evidence - ECPv6.15.14//NONSGML v1.0//EN
CALSCALE:GREGORIAN
METHOD:PUBLISH
X-ORIGINAL-URL:https://giace.org
X-WR-CALDESC:Events for Governance &amp; Integrity Anti-Corruption Evidence
REFRESH-INTERVAL;VALUE=DURATION:PT1H
X-Robots-Tag:noindex
X-PUBLISHED-TTL:PT1H
BEGIN:VTIMEZONE
TZID:UTC
BEGIN:STANDARD
TZOFFSETFROM:+0000
TZOFFSETTO:+0000
TZNAME:UTC
DTSTART:20210101T000000
END:STANDARD
END:VTIMEZONE
BEGIN:VEVENT
DTSTART;TZID=UTC:20220203T090000
DTEND;TZID=UTC:20220203T100000
DTSTAMP:20260419T040634
CREATED:20211103T142203Z
LAST-MODIFIED:20220127T092404Z
UID:3130-1643878800-1643882400@giace.org
SUMMARY:GI-ACE Weekly Series: Jan Meyer-Sahling
DESCRIPTION:Register for this event now! \nStarting in November\, each ACE research team will share how their research projects have aligned with the founding principles of the GI-ACE programme: developing anti-corruption interventions that are problem-focused\, politically viable\, have engaged practitioners throughout the research process\, and provided avenues through which to measure the effects of the reforms. \nOn February 17\, Jan Meyer-Sahling will present on his project: does ethics training reduce corruption in the civil service? \n 
URL:https://giace.org/event/gi-ace-weekly-series-jan-meyer-sahling/
ATTACH;FMTTYPE=image/jpeg:https://giace.org/wp-content/uploads/2021/11/https___cdn.evbuc_.com_images_219336119_495902153783_1_original.jpeg
END:VEVENT
END:VCALENDAR