BEGIN:VCALENDAR
VERSION:2.0
PRODID:-//Governance &amp; Integrity Anti-Corruption Evidence - ECPv6.15.14//NONSGML v1.0//EN
CALSCALE:GREGORIAN
METHOD:PUBLISH
X-WR-CALNAME:Governance &amp; Integrity Anti-Corruption Evidence
X-ORIGINAL-URL:https://giace.org
X-WR-CALDESC:Events for Governance &amp; Integrity Anti-Corruption Evidence
REFRESH-INTERVAL;VALUE=DURATION:PT1H
X-Robots-Tag:noindex
X-PUBLISHED-TTL:PT1H
BEGIN:VTIMEZONE
TZID:America/New_York
BEGIN:DAYLIGHT
TZOFFSETFROM:-0500
TZOFFSETTO:-0400
TZNAME:EDT
DTSTART:20200308T070000
END:DAYLIGHT
BEGIN:STANDARD
TZOFFSETFROM:-0400
TZOFFSETTO:-0500
TZNAME:EST
DTSTART:20201101T060000
END:STANDARD
BEGIN:DAYLIGHT
TZOFFSETFROM:-0500
TZOFFSETTO:-0400
TZNAME:EDT
DTSTART:20210314T070000
END:DAYLIGHT
BEGIN:STANDARD
TZOFFSETFROM:-0400
TZOFFSETTO:-0500
TZNAME:EST
DTSTART:20211107T060000
END:STANDARD
BEGIN:DAYLIGHT
TZOFFSETFROM:-0500
TZOFFSETTO:-0400
TZNAME:EDT
DTSTART:20220313T070000
END:DAYLIGHT
BEGIN:STANDARD
TZOFFSETFROM:-0400
TZOFFSETTO:-0500
TZNAME:EST
DTSTART:20221106T060000
END:STANDARD
END:VTIMEZONE
BEGIN:VEVENT
DTSTART;TZID=America/New_York:20211104T090000
DTEND;TZID=America/New_York:20211104T100000
DTSTAMP:20260419T235341
CREATED:20211101T144607Z
LAST-MODIFIED:20250219T220323Z
UID:3053-1636016400-1636020000@giace.org
SUMMARY:GI-ACE Weekly Series: Claudia Baez Camargo
DESCRIPTION:Register for this event now! \nStarting in November\, each ACE research team will share how their research projects have aligned with the founding principles of the GI-ACE programme: developing anti-corruption interventions that are problem-focused\, politically viable\, have engaged practitioners throughout the research process\, and provided avenues through which to measure the effects of the reforms. \nOn November\, 4\, Claudia Baez Camargo will present on her project: How can you harness informality to design anti-corruption interventions? This project has worked to test realistic anti-corruption interventions – not just admire the problem.
URL:https://giace.org/event/gi-ace-weekly-series-claudia-baez-camargo/
LOCATION:Zoom Event
ATTACH;FMTTYPE=image/jpeg:https://giace.org/wp-content/uploads/2021/11/https___cdn.evbuc_.com_images_175585659_495902153783_1_original.jpeg
END:VEVENT
END:VCALENDAR