BEGIN:VCALENDAR
VERSION:2.0
PRODID:-//Governance &amp; Integrity Anti-Corruption Evidence - ECPv6.15.14//NONSGML v1.0//EN
CALSCALE:GREGORIAN
METHOD:PUBLISH
X-ORIGINAL-URL:https://giace.org
X-WR-CALDESC:Events for Governance &amp; Integrity Anti-Corruption Evidence
REFRESH-INTERVAL;VALUE=DURATION:PT1H
X-Robots-Tag:noindex
X-PUBLISHED-TTL:PT1H
BEGIN:VTIMEZONE
TZID:America/New_York
BEGIN:DAYLIGHT
TZOFFSETFROM:-0500
TZOFFSETTO:-0400
TZNAME:EDT
DTSTART:20200308T070000
END:DAYLIGHT
BEGIN:STANDARD
TZOFFSETFROM:-0400
TZOFFSETTO:-0500
TZNAME:EST
DTSTART:20201101T060000
END:STANDARD
BEGIN:DAYLIGHT
TZOFFSETFROM:-0500
TZOFFSETTO:-0400
TZNAME:EDT
DTSTART:20210314T070000
END:DAYLIGHT
BEGIN:STANDARD
TZOFFSETFROM:-0400
TZOFFSETTO:-0500
TZNAME:EST
DTSTART:20211107T060000
END:STANDARD
BEGIN:DAYLIGHT
TZOFFSETFROM:-0500
TZOFFSETTO:-0400
TZNAME:EDT
DTSTART:20220313T070000
END:DAYLIGHT
BEGIN:STANDARD
TZOFFSETFROM:-0400
TZOFFSETTO:-0500
TZNAME:EST
DTSTART:20221106T060000
END:STANDARD
END:VTIMEZONE
BEGIN:VEVENT
DTSTART;TZID=America/New_York:20210323T100000
DTEND;TZID=America/New_York:20210323T113000
DTSTAMP:20260420T062933
CREATED:20210315T025426Z
LAST-MODIFIED:20210315T182457Z
UID:2468-1616493600-1616499000@giace.org
SUMMARY:What’s in a Design?: Mainstreaming Gender in Anti Corruption research
DESCRIPTION:As part of FCDO’s Anti-Corruption Evidence Programme\, SOAS and Global Integrity researchers will discuss why and how gender matters to our corruption research\, both in terms of agency (how we focus on empowering actors) and impact (taking gender into consideration for public service delivery). \nOur research teams will present challenges and opportunities they have faced in incorporating gender in research design\, and explore why many researchers still stray away from working with “gender” when designing research. Does this difficulty stem from the fact that sectoral specificities with complex power imbalances make it difficult to focus on gendered dynamics and solutions? Or is that\, despite the discussions and guidelines on gender mainstreaming\, we still don’t have a shared understanding of the value of gender? Most important\, are there things we are not studying that we might if we had a gender angle. \nIn this event\, we will interrogate the challenges the programme has faced in successfully ‘mainstreaming gender\,’ showcasing projects that have tackled these questions successfully\, and discussing how we — and others — might drive potential solutions in future corruption research. By making our own challenges explicit\, we hope to enrich our perspectives\, acknowledging there are researchers who have employed a gender lens and have advanced the anti-corruption field significantly.
URL:https://giace.org/event/whats-in-a-design-mainstreaming-gender-in-anti-corruption-research/
ATTACH;FMTTYPE=image/png:https://giace.org/wp-content/uploads/2021/03/event-whats-in-a-design.png
END:VEVENT
END:VCALENDAR